BEGIN:VCALENDAR
VERSION:2.0
CALSCALE:GREGORIAN
PRODID:-//Diputació de Barcelona//DibaCMS//EN
BEGIN:VEVENT
UID:482
DTSTAMP:20260423T104338
DTSTART:20260421T000000
DTEND:20270421T000000
SUMMARY:Més d’una seixantena de persones assisteixen a la presentació del llibre “El dia es lleva, la tarda es colga” de Carles Riera i Fonts als Prats de Rei
LOCATION:
METHOD:PUBLISH
X-WR-CALNAME:pratsr@pratsderei.cat
X-WR-TIMEZONE:Europe/Madrid
DESCRIPTION:
URI:https://www.pratsderei.cat/actualitat/noticies/mes-duna-seixantena-de-persones-assisteixen-a-la-presentacio-del-llibre-el-dia-es-lleva-la-tarda-es-colga-de-carles-riera-i-fonts-als-prats-de-rei.html
CLASS:PUBLIC
END:VEVENT
END:VCALENDAR
